BEGIN:VCALENDAR
VERSION:2.0
PRODID:icalendar-ruby
CALSCALE:GREGORIAN
METHOD:PUBLISH
BEGIN:VEVENT
DTSTAMP:20260425T024614Z
UID:5b819c27-9243-4c04-9514-2a29e5126082
DTSTART;VALUE=DATE:20191210
DTEND;VALUE=DATE:20191210
DESCRIPTION:Yukon BMX
LOCATION:Taylor Park Sports Complex   410 N 11th St Yukon OK 73064 USA
SUMMARY:Standard Single Single
URL:/site/bmx_races/414757
END:VEVENT
END:VCALENDAR
