BEGIN:VCALENDAR
VERSION:2.0
PRODID:icalendar-ruby
CALSCALE:GREGORIAN
METHOD:PUBLISH
BEGIN:VEVENT
DTSTAMP:20260424T201419Z
UID:074f8c7b-c875-4f7e-b34c-3f05b1f97cbe
DTSTART;VALUE=DATE:20190316
DTEND;VALUE=DATE:20190316
DESCRIPTION:Emerald Valley BMX
LOCATION:2715 Leo Harris Pkwy  Eugene OR 97402 USA
SUMMARY:Standard Single Single
URL:/site/bmx_races/413566
END:VEVENT
END:VCALENDAR
