BEGIN:VCALENDAR
VERSION:2.0
PRODID:icalendar-ruby
CALSCALE:GREGORIAN
METHOD:PUBLISH
BEGIN:VEVENT
DTSTAMP:20260425T231607Z
UID:5d563a78-bfc9-43aa-b969-b070fe8df476
DTSTART;VALUE=DATE:20191019
DTEND;VALUE=DATE:20191019
DESCRIPTION:Gretna BMX Raceway
LOCATION:800 Gretna Blvd  Gretna LA 70053 USA
SUMMARY:Standard Single Single
URL:/site/bmx_races/413413
END:VEVENT
END:VCALENDAR
