BEGIN:VCALENDAR
VERSION:2.0
PRODID:icalendar-ruby
CALSCALE:GREGORIAN
METHOD:PUBLISH
BEGIN:VEVENT
DTSTAMP:20260425T172410Z
UID:317878e5-97a2-4a58-94c1-1de679cd4fe4
DTSTART;VALUE=DATE:20190810
DTEND;VALUE=DATE:20190810
DESCRIPTION:Cross Creek BMX
LOCATION:8115 Parkglen Dr.  Fountain CO 80817 USA
SUMMARY:Standard Double Double
URL:/site/bmx_races/413152
END:VEVENT
END:VCALENDAR
