BEGIN:VCALENDAR
VERSION:2.0
PRODID:icalendar-ruby
CALSCALE:GREGORIAN
METHOD:PUBLISH
BEGIN:VEVENT
DTSTAMP:20260425T024735Z
UID:3c8768ca-5211-465b-a8f6-8a77d38be0d0
DTSTART;VALUE=DATE:20190315
DTEND;VALUE=DATE:20190315
DESCRIPTION:Lake Havasu City BMX
LOCATION:7260 Mc Culloch Blvd S. #B  Lake Havasu City AZ 86406 USA
SUMMARY:Standard Single Single
URL:/site/bmx_races/412911
END:VEVENT
END:VCALENDAR
