BEGIN:VCALENDAR
VERSION:2.0
PRODID:icalendar-ruby
CALSCALE:GREGORIAN
METHOD:PUBLISH
BEGIN:VEVENT
DTSTAMP:20260424T131237Z
UID:59d592f6-42b0-4673-96cb-96e3056cbe56
DTSTART;VALUE=DATE:20191010
DTEND;VALUE=DATE:20191010
DESCRIPTION:Circle City BMX
LOCATION:Westgate Park    100 Recreation Rd Dothan AL 36305 USA
SUMMARY:Standard Single Single
URL:/site/bmx_races/412856
END:VEVENT
END:VCALENDAR
