BEGIN:VCALENDAR
VERSION:2.0
PRODID:icalendar-ruby
CALSCALE:GREGORIAN
METHOD:PUBLISH
BEGIN:VEVENT
DTSTAMP:20260424T234925Z
UID:6f76ccdf-4429-4aa1-8bd2-12fbbabc91e7
DTSTART;VALUE=DATE:20190418
DTEND;VALUE=DATE:20190418
DESCRIPTION:Circle City BMX
LOCATION:Westgate Park    100 Recreation Rd Dothan AL 36305 USA
SUMMARY:Standard Single Single
URL:/site/bmx_races/412808
END:VEVENT
END:VCALENDAR
