BEGIN:VCALENDAR
VERSION:2.0
PRODID:icalendar-ruby
CALSCALE:GREGORIAN
METHOD:PUBLISH
BEGIN:VEVENT
DTSTAMP:20260425T021610Z
UID:33b53aff-73d6-4ef3-82b5-8bab9a2d9218
DTSTART;VALUE=DATE:20190724
DTEND;VALUE=DATE:20190724
DESCRIPTION:WALLA WALLA BMX
LOCATION:Fort Walla Walla Park   1898 Dalles Military Rd Walla Walla WA 993
 62 USA
SUMMARY:Standard Single Single
URL:/site/bmx_races/412738
END:VEVENT
END:VCALENDAR
