BEGIN:VCALENDAR
VERSION:2.0
PRODID:icalendar-ruby
CALSCALE:GREGORIAN
METHOD:PUBLISH
BEGIN:VEVENT
DTSTAMP:20260425T114318Z
UID:3d22b856-e226-4dc2-bc9a-a67cd1afd582
DTSTART;VALUE=DATE:20190622
DTEND;VALUE=DATE:20190622
DESCRIPTION:South Towns BMX
LOCATION:2982 Lakeview Rd  Hamburg NY 14075 USA
SUMMARY:Standard Double Double
URL:/site/bmx_races/411588
END:VEVENT
END:VCALENDAR
