BEGIN:VCALENDAR
VERSION:2.0
PRODID:icalendar-ruby
CALSCALE:GREGORIAN
METHOD:PUBLISH
BEGIN:VEVENT
DTSTAMP:20260424T212621Z
UID:5a36e019-0e35-484a-98b4-af3899332330
DTSTART;VALUE=DATE:20190813
DTEND;VALUE=DATE:20190813
DESCRIPTION:Milton BMX - Track 2000 
LOCATION:Drumquin Park   Britania Road Milton ON L9T 7G6 CAN
SUMMARY:Standard Single Single
URL:/site/bmx_races/411438
END:VEVENT
END:VCALENDAR
