BEGIN:VCALENDAR
VERSION:2.0
PRODID:icalendar-ruby
CALSCALE:GREGORIAN
METHOD:PUBLISH
BEGIN:VEVENT
DTSTAMP:20260424T154712Z
UID:939ac1c6-fe1b-485b-8cee-04babe5a5e04
DTSTART;VALUE=DATE:20190714
DTEND;VALUE=DATE:20190714
DESCRIPTION:NWA BMX
LOCATION:801 Mc Clure Ave  Lowell AR 72745 USA
SUMMARY:Standard Double Double
URL:/site/bmx_races/411304
END:VEVENT
END:VCALENDAR
