BEGIN:VCALENDAR
VERSION:2.0
PRODID:icalendar-ruby
CALSCALE:GREGORIAN
METHOD:PUBLISH
BEGIN:VEVENT
DTSTAMP:20260424T233624Z
UID:7b1b2f6a-951c-4783-a96c-96802258d961
DTSTART;VALUE=DATE:20190221
DTEND;VALUE=DATE:20190221
DESCRIPTION:Cape Coral BMX
LOCATION:1410 Sw 6th Place  Cape Coral FL 33991 USA
SUMMARY:Standard Single Single
URL:/site/bmx_races/411209
END:VEVENT
END:VCALENDAR
