BEGIN:VCALENDAR
VERSION:2.0
PRODID:icalendar-ruby
CALSCALE:GREGORIAN
METHOD:PUBLISH
BEGIN:VEVENT
DTSTAMP:20260424T144613Z
UID:735e795c-eee9-44da-8529-304803e18477
DTSTART;VALUE=DATE:20190605
DTEND;VALUE=DATE:20190605
DESCRIPTION:Nanaimo BMX
LOCATION:2001 Labieux Road  Nanaimo BC V9T 3K7 CAN
SUMMARY:Standard Single Single
URL:/site/bmx_races/411023
END:VEVENT
END:VCALENDAR
