BEGIN:VCALENDAR
VERSION:2.0
PRODID:icalendar-ruby
CALSCALE:GREGORIAN
METHOD:PUBLISH
BEGIN:VEVENT
DTSTAMP:20260425T230849Z
UID:b74d3084-1357-4939-9bae-dd5bee943962
DTSTART;VALUE=DATE:20190518
DTEND;VALUE=DATE:20190518
DESCRIPTION:Sports Park BMX
LOCATION:6901 N Casa Grande Highway  Tucson AZ 85743 USA
SUMMARY:Standard Single Single
URL:/site/bmx_races/410875
END:VEVENT
END:VCALENDAR
