BEGIN:VCALENDAR
VERSION:2.0
PRODID:icalendar-ruby
CALSCALE:GREGORIAN
METHOD:PUBLISH
BEGIN:VEVENT
DTSTAMP:20260425T011747Z
UID:f132f526-d939-4e65-b45b-7d2ed0391efa
DTSTART;VALUE=DATE:20190929
DTEND;VALUE=DATE:20190929
DESCRIPTION:Kamloops BMX
LOCATION:200  1550 Ord Rd   Kamloops BC V2B1N3 CAN
SUMMARY:Warnicke Single
URL:/site/bmx_races/410474
END:VEVENT
END:VCALENDAR
