BEGIN:VCALENDAR
VERSION:2.0
PRODID:icalendar-ruby
CALSCALE:GREGORIAN
METHOD:PUBLISH
BEGIN:VEVENT
DTSTAMP:20260425T010619Z
UID:d64722b9-9434-4d7f-855b-a9b15f9368f5
DTSTART;VALUE=DATE:20130524
DTEND;VALUE=DATE:20130524
DESCRIPTION:Bonzai BMX
LOCATION:7201 Arlene Laman Dr  N. Little Rock AR 72118 USA
SUMMARY:Local Race Single
URL:/site/bmx_races/41015
END:VEVENT
END:VCALENDAR
