BEGIN:VCALENDAR
VERSION:2.0
PRODID:icalendar-ruby
CALSCALE:GREGORIAN
METHOD:PUBLISH
BEGIN:VEVENT
DTSTAMP:20260425T215342Z
UID:c4f0a711-1adc-4e91-a249-12f89d1e66ac
DTSTART;VALUE=DATE:20190816
DTEND;VALUE=DATE:20190816
DESCRIPTION:Legacy Raceway BMX
LOCATION:151 S. 1100 W  Farmington UT 84025 USA
SUMMARY:Standard Single Single
URL:/site/bmx_races/409526
END:VEVENT
END:VCALENDAR
