BEGIN:VCALENDAR
VERSION:2.0
PRODID:icalendar-ruby
CALSCALE:GREGORIAN
METHOD:PUBLISH
BEGIN:VEVENT
DTSTAMP:20260425T213549Z
UID:ae5b439e-6b38-40c3-be67-3e5f3ed38656
DTSTART;VALUE=DATE:20190913
DTEND;VALUE=DATE:20190913
DESCRIPTION:Caldwell BMX
LOCATION:4700 Skyway St  Caldwell ID 83605 USA
SUMMARY:Earned Double
URL:/site/bmx_races/409060
END:VEVENT
END:VCALENDAR
