BEGIN:VCALENDAR
VERSION:2.0
PRODID:icalendar-ruby
CALSCALE:GREGORIAN
METHOD:PUBLISH
BEGIN:VEVENT
DTSTAMP:20260424T115208Z
UID:6e891ad9-9095-4e57-8a4b-e6cb3523305e
DTSTART;VALUE=DATE:20191120
DTEND;VALUE=DATE:20191120
DESCRIPTION:Oak Creek BMX
LOCATION:648 Riverside Ave  Roseville CA 95678 USA
SUMMARY:Standard Single Single
URL:/site/bmx_races/409011
END:VEVENT
END:VCALENDAR
