BEGIN:VCALENDAR
VERSION:2.0
PRODID:icalendar-ruby
CALSCALE:GREGORIAN
METHOD:PUBLISH
BEGIN:VEVENT
DTSTAMP:20260424T141709Z
UID:438c84a9-a165-4323-bd0e-85454246cb76
DTSTART;VALUE=DATE:20190721
DTEND;VALUE=DATE:20190721
DESCRIPTION:Oak Creek BMX
LOCATION:648 Riverside Ave  Roseville CA 95678 USA
SUMMARY:Standard Single Single
URL:/site/bmx_races/408949
END:VEVENT
END:VCALENDAR
