BEGIN:VCALENDAR
VERSION:2.0
PRODID:icalendar-ruby
CALSCALE:GREGORIAN
METHOD:PUBLISH
BEGIN:VEVENT
DTSTAMP:20260425T024812Z
UID:4141d261-7bda-4bc5-82b0-aaa4c2b39cd2
DTSTART;VALUE=DATE:20190727
DTEND;VALUE=DATE:20190727
DESCRIPTION:Sandbox BMX
LOCATION: 1440 Sand Island Parkway  Honolulu HI 96819 USA
SUMMARY:Standard Single Single
URL:/site/bmx_races/408571
END:VEVENT
END:VCALENDAR
