BEGIN:VCALENDAR
VERSION:2.0
PRODID:icalendar-ruby
CALSCALE:GREGORIAN
METHOD:PUBLISH
BEGIN:VEVENT
DTSTAMP:20260424T152349Z
UID:cbe6ffb3-b915-4c19-8706-9b2f83fdd085
DTSTART;VALUE=DATE:20190607
DTEND;VALUE=DATE:20190607
DESCRIPTION:Caldwell BMX
LOCATION:4700 Skyway St  Caldwell ID 83605 USA
SUMMARY:Race For Life Single
URL:/site/bmx_races/408158
END:VEVENT
END:VCALENDAR
