BEGIN:VCALENDAR
VERSION:2.0
PRODID:icalendar-ruby
CALSCALE:GREGORIAN
METHOD:PUBLISH
BEGIN:VEVENT
DTSTAMP:20260425T125452Z
UID:b0a55d0e-2a68-4758-bb1f-115eabd3b97c
DTSTART;VALUE=DATE:20130731
DTEND;VALUE=DATE:20130731
DESCRIPTION:Kingston Point BMX
LOCATION:4 Delaware Ave  Kingston NY 12401 USA
SUMMARY:Local Race Single
URL:/site/bmx_races/40786
END:VEVENT
END:VCALENDAR
