BEGIN:VCALENDAR
VERSION:2.0
PRODID:icalendar-ruby
CALSCALE:GREGORIAN
METHOD:PUBLISH
BEGIN:VEVENT
DTSTAMP:20260424T220329Z
UID:d5e47c0f-51e4-41b1-9ca0-bc8b2b8ca6cb
DTSTART;VALUE=DATE:20190801
DTEND;VALUE=DATE:20190801
DESCRIPTION:Trilogy Park BMX
LOCATION:75 W King St  Pottstown PA 19464 USA
SUMMARY:Standard Single Single
URL:/site/bmx_races/407710
END:VEVENT
END:VCALENDAR
