BEGIN:VCALENDAR
VERSION:2.0
PRODID:icalendar-ruby
CALSCALE:GREGORIAN
METHOD:PUBLISH
BEGIN:VEVENT
DTSTAMP:20260424T230057Z
UID:cba8662c-fff2-4e21-bc27-c3c91e2645b6
DTSTART;VALUE=DATE:20190817
DTEND;VALUE=DATE:20190817
DESCRIPTION:Horseheads BMX
LOCATION:190 Wygant Rd  Horseheads NY 14845 USA
SUMMARY:Race For Life Double Double
URL:/site/bmx_races/407653
END:VEVENT
END:VCALENDAR
