BEGIN:VCALENDAR
VERSION:2.0
PRODID:icalendar-ruby
CALSCALE:GREGORIAN
METHOD:PUBLISH
BEGIN:VEVENT
DTSTAMP:20260424T184721Z
UID:bf8e9918-115b-452f-bfa9-24cc4498b483
DTSTART;VALUE=DATE:20190101
DTEND;VALUE=DATE:20190101
DESCRIPTION:Rusty Bowl BMX
LOCATION:1281 E Gobbi St  Ukiah CA 95482 USA
SUMMARY:Standard Single Single
URL:/site/bmx_races/407359
END:VEVENT
END:VCALENDAR
