BEGIN:VCALENDAR
VERSION:2.0
PRODID:icalendar-ruby
CALSCALE:GREGORIAN
METHOD:PUBLISH
BEGIN:VEVENT
DTSTAMP:20260425T114243Z
UID:db0440c5-50d6-4fb0-8d49-e212ad7093ba
DTSTART;VALUE=DATE:20190607
DTEND;VALUE=DATE:20190607
DESCRIPTION:Upstate BMX
LOCATION:6416 Silver Hill Rd  Newark NY 14513 USA
SUMMARY:Standard Single Single
URL:/site/bmx_races/407011
END:VEVENT
END:VCALENDAR
