BEGIN:VCALENDAR
VERSION:2.0
PRODID:icalendar-ruby
CALSCALE:GREGORIAN
METHOD:PUBLISH
BEGIN:VEVENT
DTSTAMP:20260425T161028Z
UID:fb46609d-0ecf-4c8b-a379-52cd8a5dc619
DTSTART;VALUE=DATE:20191005
DTEND;VALUE=DATE:20191005
DESCRIPTION:Pearland BMX
LOCATION:5657 Morning Dove Ln  Alvin TX 77511 USA
SUMMARY:Standard Single Single
URL:/site/bmx_races/406796
END:VEVENT
END:VCALENDAR
