BEGIN:VCALENDAR
VERSION:2.0
PRODID:icalendar-ruby
CALSCALE:GREGORIAN
METHOD:PUBLISH
BEGIN:VEVENT
DTSTAMP:20260424T160814Z
UID:103255ad-4aeb-47c8-8f97-f90776650366
DTSTART;VALUE=DATE:20190609
DTEND;VALUE=DATE:20190609
DESCRIPTION:Bakerview BMX
LOCATION:3101 E Fir Street  Mt. Vernon WA 98273 USA
SUMMARY:Standard Single Single
URL:/site/bmx_races/406250
END:VEVENT
END:VCALENDAR
