BEGIN:VCALENDAR
VERSION:2.0
PRODID:icalendar-ruby
CALSCALE:GREGORIAN
METHOD:PUBLISH
BEGIN:VEVENT
DTSTAMP:20260424T175213Z
UID:de389d3e-721c-4d89-9c01-f4f52a5f27e6
DTSTART;VALUE=DATE:20190617
DTEND;VALUE=DATE:20190617
DESCRIPTION:Nellis BMX
LOCATION:4949 E Cheyenne Ave  Las Vegas NV 89115 USA
SUMMARY:Olympic Single
URL:/site/bmx_races/406214
END:VEVENT
END:VCALENDAR
