BEGIN:VCALENDAR
VERSION:2.0
PRODID:icalendar-ruby
CALSCALE:GREGORIAN
METHOD:PUBLISH
BEGIN:VEVENT
DTSTAMP:20260424T141544Z
UID:38bb7bb5-ffea-4ebd-b43a-3f59c23f0106
DTSTART;VALUE=DATE:20190927
DTEND;VALUE=DATE:20190927
DESCRIPTION:Burdette Park BMX
LOCATION:5821 Nurrenbern Rd  Evansville IN 47712 USA
SUMMARY:Standard Single Single
URL:/site/bmx_races/405865
END:VEVENT
END:VCALENDAR
