BEGIN:VCALENDAR
VERSION:2.0
PRODID:icalendar-ruby
CALSCALE:GREGORIAN
METHOD:PUBLISH
BEGIN:VEVENT
DTSTAMP:20260424T113728Z
UID:d34bfca1-c40f-494d-9ec4-bf287ea56e3e
DTSTART;VALUE=DATE:20190920
DTEND;VALUE=DATE:20190920
DESCRIPTION:Burdette Park BMX
LOCATION:5821 Nurrenbern Rd  Evansville IN 47712 USA
SUMMARY:Standard Single Single
URL:/site/bmx_races/405864
END:VEVENT
END:VCALENDAR
