BEGIN:VCALENDAR
VERSION:2.0
PRODID:icalendar-ruby
CALSCALE:GREGORIAN
METHOD:PUBLISH
BEGIN:VEVENT
DTSTAMP:20260425T125537Z
UID:32286bff-857a-4431-a680-d5be72e7f3e9
DTSTART;VALUE=DATE:20190421
DTEND;VALUE=DATE:20190421
DESCRIPTION:Cobb County BMX
LOCATION:3820 Macedonia Rd  Powder Springs GA 30127 USA
SUMMARY:Race For Life Double Double
URL:/site/bmx_races/405776
END:VEVENT
END:VCALENDAR
