BEGIN:VCALENDAR
VERSION:2.0
PRODID:icalendar-ruby
CALSCALE:GREGORIAN
METHOD:PUBLISH
BEGIN:VEVENT
DTSTAMP:20260424T202333Z
UID:775f7ea5-ef30-4a71-9f76-c9ab9d597f17
DTSTART;VALUE=DATE:20190811
DTEND;VALUE=DATE:20190811
DESCRIPTION:Duke City BMX
LOCATION:1011 Buena Vista Dr Se  Albuquerque NM 87106 USA
SUMMARY:Race For Life Double Double
URL:/site/bmx_races/405687
END:VEVENT
END:VCALENDAR
