BEGIN:VCALENDAR
VERSION:2.0
PRODID:icalendar-ruby
CALSCALE:GREGORIAN
METHOD:PUBLISH
BEGIN:VEVENT
DTSTAMP:20260424T154704Z
UID:57b8d358-35ed-4c84-b939-d730be933707
DTSTART;VALUE=DATE:20191212
DTEND;VALUE=DATE:20191212
DESCRIPTION:Lake Havasu City BMX
LOCATION:7260 Mc Culloch Blvd S. #B  Lake Havasu City AZ 86406 USA
SUMMARY:Standard Single Single
URL:/site/bmx_races/405673
END:VEVENT
END:VCALENDAR
