BEGIN:VCALENDAR
VERSION:2.0
PRODID:icalendar-ruby
CALSCALE:GREGORIAN
METHOD:PUBLISH
BEGIN:VEVENT
DTSTAMP:20260424T215415Z
UID:86aa15a3-37c8-47ce-a7f1-d5dcd047dca1
DTSTART;VALUE=DATE:20191016
DTEND;VALUE=DATE:20191016
DESCRIPTION:Desert Downs BMX
LOCATION:8801 Railroad  El Paso TX 79924 USA
SUMMARY:Standard Single Single
URL:/site/bmx_races/405389
END:VEVENT
END:VCALENDAR
