BEGIN:VCALENDAR
VERSION:2.0
PRODID:icalendar-ruby
CALSCALE:GREGORIAN
METHOD:PUBLISH
BEGIN:VEVENT
DTSTAMP:20260425T161159Z
UID:ac920416-9a7c-4ea0-91d1-9a2327a12e8a
DTSTART;VALUE=DATE:20190309
DTEND;VALUE=DATE:20190309
DESCRIPTION:Sandy Ridge BMX
LOCATION:1200 Keys Ferry Rd  McDonough GA 30253 USA
SUMMARY:Standard Single Single
URL:/site/bmx_races/405299
END:VEVENT
END:VCALENDAR
