BEGIN:VCALENDAR
VERSION:2.0
PRODID:icalendar-ruby
CALSCALE:GREGORIAN
METHOD:PUBLISH
BEGIN:VEVENT
DTSTAMP:20260426T020245Z
UID:1ae5598a-2670-4055-92d4-5a49ded6ca27
DTSTART;VALUE=DATE:20190404
DTEND;VALUE=DATE:20190404
DESCRIPTION:Hornet`s Nest BMX
LOCATION:6301 Beatties Ford Rd  Charlotte NC 28216 USA
SUMMARY:Standard Single Single
URL:/site/bmx_races/404419
END:VEVENT
END:VCALENDAR
