BEGIN:VCALENDAR
VERSION:2.0
PRODID:icalendar-ruby
CALSCALE:GREGORIAN
METHOD:PUBLISH
BEGIN:VEVENT
DTSTAMP:20260425T214204Z
UID:dd1e97a8-5d40-47e2-8532-b897df2f32de
DTSTART;VALUE=DATE:20190904
DTEND;VALUE=DATE:20190904
DESCRIPTION:Langley BMX
LOCATION:4375 206 St Langley  Langley BC V3A 3B1 CAN
SUMMARY:Warnicke Single
URL:/site/bmx_races/404252
END:VEVENT
END:VCALENDAR
