BEGIN:VCALENDAR
VERSION:2.0
PRODID:icalendar-ruby
CALSCALE:GREGORIAN
METHOD:PUBLISH
BEGIN:VEVENT
DTSTAMP:20260425T163357Z
UID:a01ad00f-d5b7-4dc1-ab2b-97a54de55738
DTSTART;VALUE=DATE:20190621
DTEND;VALUE=DATE:20190621
DESCRIPTION:Elkhorn BMX
LOCATION:848 Elkhorn Blvd  Rio Linda CA 95673 USA
SUMMARY:Standard Single Single
URL:/site/bmx_races/404190
END:VEVENT
END:VCALENDAR
