BEGIN:VCALENDAR
VERSION:2.0
PRODID:icalendar-ruby
CALSCALE:GREGORIAN
METHOD:PUBLISH
BEGIN:VEVENT
DTSTAMP:20260425T035215Z
UID:08a3b984-8bbc-4420-ad12-151018e12d31
DTSTART;VALUE=DATE:20190415
DTEND;VALUE=DATE:20190415
DESCRIPTION:HD BMX
LOCATION:17427 Live Oak St  Hesperia CA 92345 USA
SUMMARY:Standard Single Single
URL:/site/bmx_races/403746
END:VEVENT
END:VCALENDAR
