BEGIN:VCALENDAR
VERSION:2.0
PRODID:icalendar-ruby
CALSCALE:GREGORIAN
METHOD:PUBLISH
BEGIN:VEVENT
DTSTAMP:20260424T184704Z
UID:c66cd8f9-e19c-4085-8d08-7cbc4dd3fe8c
DTSTART;VALUE=DATE:20191108
DTEND;VALUE=DATE:20191108
DESCRIPTION:Santa Maria BMX
LOCATION:4040 Highway 101  Santa Maria CA 93455 USA
SUMMARY:Standard Single Single
URL:/site/bmx_races/403669
END:VEVENT
END:VCALENDAR
