BEGIN:VCALENDAR
VERSION:2.0
PRODID:icalendar-ruby
CALSCALE:GREGORIAN
METHOD:PUBLISH
BEGIN:VEVENT
DTSTAMP:20260425T114143Z
UID:fbc7fbcf-738a-4dc3-8138-e9b4d5429bcb
DTSTART;VALUE=DATE:20190918
DTEND;VALUE=DATE:20190918
DESCRIPTION:Northern Virginia (NOVA) BMX
LOCATION:7 County Complex Court  Woodbridge VA 22192 USA
SUMMARY:Standard Single Single
URL:/site/bmx_races/403113
END:VEVENT
END:VCALENDAR
