BEGIN:VCALENDAR
VERSION:2.0
PRODID:icalendar-ruby
CALSCALE:GREGORIAN
METHOD:PUBLISH
BEGIN:VEVENT
DTSTAMP:20260424T172144Z
UID:84ca016d-408b-4d8c-8636-06392559fc11
DTSTART;VALUE=DATE:20190508
DTEND;VALUE=DATE:20190508
DESCRIPTION:Northern Virginia (NOVA) BMX
LOCATION:7 County Complex Court  Woodbridge VA 22192 USA
SUMMARY:Standard Single Single
URL:/site/bmx_races/403094
END:VEVENT
END:VCALENDAR
