BEGIN:VCALENDAR
VERSION:2.0
PRODID:icalendar-ruby
CALSCALE:GREGORIAN
METHOD:PUBLISH
BEGIN:VEVENT
DTSTAMP:20260424T125324Z
UID:8febff16-e4e0-4f8c-882b-2fad8a55653a
DTSTART;VALUE=DATE:20190528
DTEND;VALUE=DATE:20190528
DESCRIPTION:Gretna BMX Raceway
LOCATION:800 Gretna Blvd  Gretna LA 70053 USA
SUMMARY:Standard Single Single
URL:/site/bmx_races/403009
END:VEVENT
END:VCALENDAR
