BEGIN:VCALENDAR
VERSION:2.0
PRODID:icalendar-ruby
CALSCALE:GREGORIAN
METHOD:PUBLISH
BEGIN:VEVENT
DTSTAMP:20260424T160602Z
UID:2a333302-5c04-4446-9149-f9a1fa9e2742
DTSTART;VALUE=DATE:20190228
DTEND;VALUE=DATE:20190228
DESCRIPTION:Imperial Valley BMX
LOCATION:1750 Drew Rd  El Centro CA 92243 USA
SUMMARY:Standard Single Single
URL:/site/bmx_races/402870
END:VEVENT
END:VCALENDAR
