BEGIN:VCALENDAR
VERSION:2.0
PRODID:icalendar-ruby
CALSCALE:GREGORIAN
METHOD:PUBLISH
BEGIN:VEVENT
DTSTAMP:20260425T150802Z
UID:1ca0b339-e264-4c2d-8f4a-92ef975d8d66
DTSTART;VALUE=DATE:20190817
DTEND;VALUE=DATE:20190817
DESCRIPTION:First State BMX
LOCATION:1045 N Walnut St  Milford DE 19963 USA
SUMMARY:Standard Single Single
URL:/site/bmx_races/401608
END:VEVENT
END:VCALENDAR
