BEGIN:VCALENDAR
VERSION:2.0
PRODID:icalendar-ruby
CALSCALE:GREGORIAN
METHOD:PUBLISH
BEGIN:VEVENT
DTSTAMP:20260426T003154Z
UID:23c5956b-4a69-4831-9c29-ef79b50f8f43
DTSTART;VALUE=DATE:20190602
DTEND;VALUE=DATE:20190602
DESCRIPTION:Aberdeen Hub Area BMX
LOCATION:1111 1st Ave Se  Aberdeen SD 57401 USA
SUMMARY:Standard Single Single
URL:/site/bmx_races/400731
END:VEVENT
END:VCALENDAR
