BEGIN:VCALENDAR
VERSION:2.0
PRODID:icalendar-ruby
CALSCALE:GREGORIAN
METHOD:PUBLISH
BEGIN:VEVENT
DTSTAMP:20260425T174008Z
UID:264d5965-58e5-48b1-8cae-83929f8f9e5e
DTSTART;VALUE=DATE:20190901
DTEND;VALUE=DATE:20190901
DESCRIPTION:Wakefield BMX
LOCATION:Sullivan Park  Wakefield MA 01833 USA
SUMMARY:Standard Single Single
URL:/site/bmx_races/400318
END:VEVENT
END:VCALENDAR
