BEGIN:VCALENDAR
VERSION:2.0
PRODID:icalendar-ruby
CALSCALE:GREGORIAN
METHOD:PUBLISH
BEGIN:VEVENT
DTSTAMP:20260425T230848Z
UID:db93afac-cb24-4e8e-99e4-3355df67782e
DTSTART;VALUE=DATE:20190629
DTEND;VALUE=DATE:20190629
DESCRIPTION:Hire Park BMX
LOCATION:750 E Arthur St  Warsaw IN 46580 USA
SUMMARY:Olympic Single
URL:/site/bmx_races/400254
END:VEVENT
END:VCALENDAR
